BEGIN:VCALENDAR
VERSION:2.0
PRODID:-//UNC School of Education - ECPv6.15.20//NONSGML v1.0//EN
CALSCALE:GREGORIAN
METHOD:PUBLISH
X-ORIGINAL-URL:https://ed.unc.edu
X-WR-CALDESC:Events for UNC School of Education
REFRESH-INTERVAL;VALUE=DURATION:PT1H
X-Robots-Tag:noindex
X-PUBLISHED-TTL:PT1H
BEGIN:VTIMEZONE
TZID:America/New_York
BEGIN:DAYLIGHT
TZOFFSETFROM:-0500
TZOFFSETTO:-0400
TZNAME:EDT
DTSTART:20200308T070000
END:DAYLIGHT
BEGIN:STANDARD
TZOFFSETFROM:-0400
TZOFFSETTO:-0500
TZNAME:EST
DTSTART:20201101T060000
END:STANDARD
BEGIN:DAYLIGHT
TZOFFSETFROM:-0500
TZOFFSETTO:-0400
TZNAME:EDT
DTSTART:20210314T070000
END:DAYLIGHT
BEGIN:STANDARD
TZOFFSETFROM:-0400
TZOFFSETTO:-0500
TZNAME:EST
DTSTART:20211107T060000
END:STANDARD
BEGIN:DAYLIGHT
TZOFFSETFROM:-0500
TZOFFSETTO:-0400
TZNAME:EDT
DTSTART:20220313T070000
END:DAYLIGHT
BEGIN:STANDARD
TZOFFSETFROM:-0400
TZOFFSETTO:-0500
TZNAME:EST
DTSTART:20221106T060000
END:STANDARD
END:VTIMEZONE
BEGIN:VEVENT
DTSTART;TZID=America/New_York:20210315T122000
DTEND;TZID=America/New_York:20210315T132000
DTSTAMP:20260421T134952
CREATED:20210305T211600Z
LAST-MODIFIED:20210305T211600Z
UID:11201-1615810800-1615814400@ed.unc.edu
SUMMARY:What’s the Plan? Methods Considerations for IES Grant Proposals | Kyle Nickodem\, Ph.D.\, Research Statistician
DESCRIPTION:Kyle Nickodem\, Ph.D.\, School of Education’s Research Statistician\, provides guidance and resources for writing the Research Plan section of Institute of Education Sciences grant proposals. Dr. Nickodem reviews typical IES requirements for the Research Plan along with considerations for describing the study sample\, selecting outcome measures\, handling missing data\, aligning a power analysis to the proposed research design and data analysis plan\, and conducting a cost analysis. Although each of these topics deserves its own talk\, the goal of this presentation is to provide an overview of the methodological decisions that contribute to a more polished grant proposal.
URL:https://ed.unc.edu/event/methods-considerations-ies/
LOCATION:Online
CATEGORIES:Public Lectures
END:VEVENT
END:VCALENDAR