BEGIN:VCALENDAR
VERSION:2.0
PRODID:-//UNC School of Education - ECPv6.15.20//NONSGML v1.0//EN
CALSCALE:GREGORIAN
METHOD:PUBLISH
X-ORIGINAL-URL:https://ed.unc.edu
X-WR-CALDESC:Events for UNC School of Education
REFRESH-INTERVAL;VALUE=DURATION:PT1H
X-Robots-Tag:noindex
X-PUBLISHED-TTL:PT1H
BEGIN:VTIMEZONE
TZID:America/New_York
BEGIN:DAYLIGHT
TZOFFSETFROM:-0500
TZOFFSETTO:-0400
TZNAME:EDT
DTSTART:20190310T070000
END:DAYLIGHT
BEGIN:STANDARD
TZOFFSETFROM:-0400
TZOFFSETTO:-0500
TZNAME:EST
DTSTART:20191103T060000
END:STANDARD
BEGIN:DAYLIGHT
TZOFFSETFROM:-0500
TZOFFSETTO:-0400
TZNAME:EDT
DTSTART:20200308T070000
END:DAYLIGHT
BEGIN:STANDARD
TZOFFSETFROM:-0400
TZOFFSETTO:-0500
TZNAME:EST
DTSTART:20201101T060000
END:STANDARD
BEGIN:DAYLIGHT
TZOFFSETFROM:-0500
TZOFFSETTO:-0400
TZNAME:EDT
DTSTART:20210314T070000
END:DAYLIGHT
BEGIN:STANDARD
TZOFFSETFROM:-0400
TZOFFSETTO:-0500
TZNAME:EST
DTSTART:20211107T060000
END:STANDARD
BEGIN:DAYLIGHT
TZOFFSETFROM:-0500
TZOFFSETTO:-0400
TZNAME:EDT
DTSTART:20220313T070000
END:DAYLIGHT
BEGIN:STANDARD
TZOFFSETFROM:-0400
TZOFFSETTO:-0500
TZNAME:EST
DTSTART:20221106T060000
END:STANDARD
END:VTIMEZONE
BEGIN:VTIMEZONE
TZID:UTC
BEGIN:STANDARD
TZOFFSETFROM:+0000
TZOFFSETTO:+0000
TZNAME:UTC
DTSTART:20190101T000000
END:STANDARD
END:VTIMEZONE
BEGIN:VEVENT
DTSTART;TZID=America/New_York:20210730T130000
DTEND;TZID=America/New_York:20210730T150000
DTSTAMP:20260423T175442
CREATED:20210628T191749Z
LAST-MODIFIED:20210629T134135Z
UID:11957-1627650000-1627657200@ed.unc.edu
SUMMARY:MEITE Innovation Showcase
DESCRIPTION:The MEITE Innovation Showcase is an annual event\, and during the event\, MEITE students will pitch new educational ventures\, report on trends within the field of educational innovations\, present interactive courses\, and demonstrate reimagined pieces of edtech. \nFor this year’s event\, we will be holding it over Zoom on 7/30 from 1:00-300pm EST. \nRegister here. \nAccess the event on Zoom here.
URL:https://ed.unc.edu/event/meite-innovation-showcase/
LOCATION:Zoom
CATEGORIES:School Events
END:VEVENT
BEGIN:VEVENT
DTSTART;TZID=America/New_York:20210407T180000
DTEND;TZID=America/New_York:20210407T190000
DTSTAMP:20260423T175442
CREATED:20210224T162505Z
LAST-MODIFIED:20210303T182139Z
UID:11179-1617818400-1617822000@ed.unc.edu
SUMMARY:Soft Launch of Ed Tech Connect NC
DESCRIPTION:Join the MEITE Khayrallah Fellows for the soft launch of EdTech Connect NC\, a site for teachers to efficiently and effectively integrate educational technology into their K-12 content-area instruction. This site provides resources and instructional ideas for K-12 teachers who are implementing the ISTE standards in their classroom. EdTech Connect NC site is designed for teachers\, by teachers\, and its mission is to support North Carolina’s teachers in further developing the digital literacy skills their students will need to compete in today’s 21st-century world. \nThis launch will showcase the site’s features\, including how to navigate the site\, access information about the ISTE standards\, and tour a database of edtech aligned to academic and technology standards. The main presenters will be this year’s Khayrallah Fellows including Savannah Windham\, Devon Young\, Erika Murray\, and Marvin Espinoza\, and it will open with an introduction from Dr. Todd Cherner. Participants will also have the opportunity to explore the EdTech Connect NC website\, participate in small group discussions about ISTE\, and ask any additional questions. \nParticipants will need a computer with internet access to join this session. \nRegister in advance for this meeting: https://zoom.us/meeting/register/tJIvfu2hrD0vHtL1hoOzHzMVzqvcilmXE2E0 \nAfter registering\, you will receive a confirmation email containing information about joining.
URL:https://ed.unc.edu/event/ed-tech-connect-nc-launch-day/
LOCATION:Online
CATEGORIES:School Events
END:VEVENT
BEGIN:VEVENT
DTSTART;TZID=America/New_York:20201217T180000
DTEND;TZID=America/New_York:20201217T190000
DTSTAMP:20260423T175442
CREATED:20200803T193859Z
LAST-MODIFIED:20201120T151942Z
UID:10028-1608228000-1608231600@ed.unc.edu
SUMMARY:School Counseling Career Connections
DESCRIPTION:Career Connections: Ways to Connect College and Careers\nJoin faculty\, staff\, students\, and alumni from the UNC School of Education and its school counseling program for a Facebook Live event to hear how the current school year is going\, how school counselors are continuing to care for their communities\, and how our school counseling program prepares students to successfully serve all of their students\, especially the most vulnerable ones. Audience members will have the opportunity and are encouraged to ask questions during the event.
URL:https://ed.unc.edu/event/school-counseling-career-connections-12-17-20/
LOCATION:Online
CATEGORIES:Information Sessions,Public,School Events
ORGANIZER;CN="Patricia &#8220%3BTrish&#8221%3B Harris":MAILTO:patricia.harris@unc.edu
END:VEVENT
BEGIN:VEVENT
DTSTART;TZID=America/New_York:20201120T150000
DTEND;TZID=America/New_York:20201120T160000
DTSTAMP:20260423T175442
CREATED:20201012T212431Z
LAST-MODIFIED:20201012T212431Z
UID:10562-1605884400-1605888000@ed.unc.edu
SUMMARY:Diversity\, Equity & Inclusion Listening Sessions
DESCRIPTION:The sessions are offered to allow community members to share concerns and input that will be used in forming a Diversity\, Equity\, and Inclusion plan for the School of Education. Watch for emailed Zoom invites.
URL:https://ed.unc.edu/event/diversity-equity-inclusion-listening-sessions-6/
LOCATION:Online
CATEGORIES:School Events
ORGANIZER;CN="Dana Griffin":MAILTO:dcgriffi@email.unc.edu
END:VEVENT
BEGIN:VEVENT
DTSTART;TZID=America/New_York:20201113T150000
DTEND;TZID=America/New_York:20201113T160000
DTSTAMP:20260423T175442
CREATED:20201012T212430Z
LAST-MODIFIED:20201012T212430Z
UID:10561-1605279600-1605283200@ed.unc.edu
SUMMARY:Diversity\, Equity & Inclusion Listening Sessions
DESCRIPTION:The sessions are offered to allow community members to share concerns and input that will be used in forming a Diversity\, Equity\, and Inclusion plan for the School of Education. Watch for emailed Zoom invites.
URL:https://ed.unc.edu/event/diversity-equity-inclusion-listening-sessions-5/
LOCATION:Online
CATEGORIES:School Events
ORGANIZER;CN="Dana Griffin":MAILTO:dcgriffi@email.unc.edu
END:VEVENT
BEGIN:VEVENT
DTSTART;TZID=America/New_York:20201106T150000
DTEND;TZID=America/New_York:20201106T160000
DTSTAMP:20260423T175442
CREATED:20201012T212429Z
LAST-MODIFIED:20201012T212429Z
UID:10560-1604674800-1604678400@ed.unc.edu
SUMMARY:Diversity\, Equity & Inclusion Listening Sessions
DESCRIPTION:The sessions are offered to allow community members to share concerns and input that will be used in forming a Diversity\, Equity\, and Inclusion plan for the School of Education. Watch for emailed Zoom invites.
URL:https://ed.unc.edu/event/diversity-equity-inclusion-listening-sessions-4/
LOCATION:Online
CATEGORIES:School Events
ORGANIZER;CN="Dana Griffin":MAILTO:dcgriffi@email.unc.edu
END:VEVENT
BEGIN:VEVENT
DTSTART;TZID=America/New_York:20201104T180000
DTEND;TZID=America/New_York:20201104T180000
DTSTAMP:20260423T175442
CREATED:20200803T193859Z
LAST-MODIFIED:20200901T134905Z
UID:10029-1604512800-1604512800@ed.unc.edu
SUMMARY:Master of Arts in Educational\, Innovation\, Technology\, and Entrepreneurship Info Session
DESCRIPTION:Take the first step towards earning a Master of Arts in Educational Innovation\, Technology\, and Entrepreneurship (MEITE) by attending an online information session hosted by UNC’s School of Education. During this web-based presentation\, School of Education faculty and recruitment staff will cover how the MEITE program can help you advance your career and achieve your goals by honing in on your creativity and acquiring the knowledge\, skills and dispositions necessary to become an effective leader in educational innovation. There will also be the chance to discuss the application and admissions process as well as ask any further questions that you may have. All you will need is a computer with internet access and a phone. \nRegister here.
URL:https://ed.unc.edu/event/meite-info-session-3/
LOCATION:Online
CATEGORIES:Information Sessions,Public,School Events
ORGANIZER;CN="Patricia &#8220%3BTrish&#8221%3B Harris":MAILTO:patricia.harris@unc.edu
END:VEVENT
BEGIN:VEVENT
DTSTART;TZID=America/New_York:20201102T180000
DTEND;TZID=America/New_York:20201102T190000
DTSTAMP:20260423T175442
CREATED:20201030T154526Z
LAST-MODIFIED:20201030T154526Z
UID:10689-1604340000-1604343600@ed.unc.edu
SUMMARY:School Counseling Info Session
DESCRIPTION:Take the first step towards earning a Master of Education in School Counseling by attending an online information session. During this web-based presentation\, School of Education faculty and recruitment staff will cover how the M.Ed in School Counseling can help you advance your career and achieve your goals by honing in on your leadership skills and acquiring the knowledge\, skills and dispositions necessary to become an effective school counselor. Participants will have the opportunity to discuss the application and admissions process as well as ask any further questions that you may have. All you will need is a computer with internet access and a phone. \nRegister here.
URL:https://ed.unc.edu/event/school-counseling-info-session-11-2-20/
LOCATION:Online
CATEGORIES:Information Sessions,Public,School Events
ORGANIZER;CN="Patricia Harris":MAILTO:patricia.harris@unc.edu
END:VEVENT
BEGIN:VEVENT
DTSTART;TZID=America/New_York:20201030T150000
DTEND;TZID=America/New_York:20201030T160000
DTSTAMP:20260423T175442
CREATED:20201012T212429Z
LAST-MODIFIED:20201012T212429Z
UID:10559-1604070000-1604073600@ed.unc.edu
SUMMARY:Diversity\, Equity & Inclusion Listening Sessions
DESCRIPTION:The sessions are offered to allow community members to share concerns and input that will be used in forming a Diversity\, Equity\, and Inclusion plan for the School of Education. Watch for emailed Zoom invites.
URL:https://ed.unc.edu/event/diversity-equity-inclusion-listening-sessions-3/
LOCATION:Online
CATEGORIES:School Events
ORGANIZER;CN="Dana Griffin":MAILTO:dcgriffi@email.unc.edu
END:VEVENT
BEGIN:VEVENT
DTSTART;TZID=America/New_York:20201029T180000
DTEND;TZID=America/New_York:20201029T190000
DTSTAMP:20260423T175442
CREATED:20200803T193859Z
LAST-MODIFIED:20200901T135051Z
UID:10027-1603994400-1603998000@ed.unc.edu
SUMMARY:Master of Arts in Teaching Info Session
DESCRIPTION:Take the first step towards earning a Master’s of Arts in Teaching (MAT) by attending an online information session. During this web-based presentation\, School of Education faculty and recruitment staff will cover how the MAT program can help you advance your career and achieve your goals by honing in on your leadership skills and acquiring the knowledge\, skills and dispositions necessary to become an effective educator. Participants will have an opportunity to discuss the application and admissions process as well as ask any further questions that you may have. All you will need is a computer with internet access and a phone. \nRegister here.
URL:https://ed.unc.edu/event/mat-info-session-2/
LOCATION:Online
CATEGORIES:Information Sessions,Public,School Events
ORGANIZER;CN="Patricia &#8220%3BTrish&#8221%3B Harris":MAILTO:patricia.harris@unc.edu
END:VEVENT
BEGIN:VEVENT
DTSTART;TZID=America/New_York:20201028T173000
DTEND;TZID=America/New_York:20201028T183000
DTSTAMP:20260423T175442
CREATED:20200803T193856Z
LAST-MODIFIED:20200803T193856Z
UID:10016-1603906200-1603909800@ed.unc.edu
SUMMARY:Teaching Fellows Info Session
DESCRIPTION:
URL:https://ed.unc.edu/event/teaching-fellows-info-session/
LOCATION:Facebook Live
CATEGORIES:Information Sessions,Public,School Events
ORGANIZER;CN="Patricia &#8220%3BTrish&#8221%3B Harris":MAILTO:patricia.harris@unc.edu
END:VEVENT
BEGIN:VEVENT
DTSTART;TZID=America/New_York:20201027T180000
DTEND;TZID=America/New_York:20201027T190000
DTSTAMP:20260423T175442
CREATED:20200803T193858Z
LAST-MODIFIED:20200803T193858Z
UID:10026-1603821600-1603825200@ed.unc.edu
SUMMARY:Master of School Administration Info Session
DESCRIPTION:Take the first step towards earning a Master’s in School Administration by attending an online information session. During these web-based presentations\, School of Education faculty and recruitment staff will cover how the MSA program can help you advance your career and achieve your goals by honing in on your leadership skills and acquiring the knowledge\, skills and dispositions necessary to become an effective school leader. There will also be an opportunity to discuss the application and admissions process as well as ask any further questions that you may have. All you will need is a computer with internet access and a phone. \nRegister here.
URL:https://ed.unc.edu/event/master-of-school-administration-info-session-2/
LOCATION:Online
CATEGORIES:Information Sessions,Public,School Events
ORGANIZER;CN="Patricia &#8220%3BTrish&#8221%3B Harris":MAILTO:patricia.harris@unc.edu
END:VEVENT
BEGIN:VEVENT
DTSTART;TZID=America/New_York:20201026T160000
DTEND;TZID=America/New_York:20201026T170000
DTSTAMP:20260423T175442
CREATED:20200803T193856Z
LAST-MODIFIED:20201105T185347Z
UID:10015-1603728000-1603731600@ed.unc.edu
SUMMARY:Human Development and Family Studies Career Connections Series
DESCRIPTION:
URL:https://ed.unc.edu/event/hdfs-career-connections-series-2/
LOCATION:Facebook Live
CATEGORIES:Information Sessions,Public,School Events
ORGANIZER;CN="Patricia &#8220%3BTrish&#8221%3B Harris":MAILTO:patricia.harris@unc.edu
END:VEVENT
BEGIN:VEVENT
DTSTART;TZID=America/New_York:20201023T150000
DTEND;TZID=America/New_York:20201023T160000
DTSTAMP:20260423T175442
CREATED:20201012T212428Z
LAST-MODIFIED:20201012T212428Z
UID:10558-1603465200-1603468800@ed.unc.edu
SUMMARY:Diversity\, Equity & Inclusion Listening Sessions
DESCRIPTION:The sessions are offered to allow community members to share concerns and input that will be used in forming a Diversity\, Equity\, and Inclusion plan for the School of Education. Watch for emailed Zoom invites.
URL:https://ed.unc.edu/event/diversity-equity-inclusion-listening-sessions-2/
LOCATION:Online
CATEGORIES:School Events
ORGANIZER;CN="Dana Griffin":MAILTO:dcgriffi@email.unc.edu
END:VEVENT
BEGIN:VEVENT
DTSTART;TZID=America/New_York:20201022T190000
DTEND;TZID=America/New_York:20201022T203000
DTSTAMP:20260423T175442
CREATED:20201012T212426Z
LAST-MODIFIED:20201012T213556Z
UID:10555-1603393200-1603398600@ed.unc.edu
SUMMARY:Black Innovation Matters
DESCRIPTION:The third annual Black Innovation Matters conference will be held on Thursday\, October 22nd. \nThe theme of this year’s event is “Amplifying Ideas and Inspiring Action.” Several dynamic local and national innovators will be highlighting and celebrating Black innovation and entrepreneurship. The event is virtual. Please register in advance of the event. For more information\, see Patricia Harris at patricia.harris@unc.edu \nShare the Black Innovation Matters Flyer!
URL:https://ed.unc.edu/event/black-innovation-matters/
CATEGORIES:School Events
END:VEVENT
BEGIN:VEVENT
DTSTART;TZID=America/New_York:20201016T150000
DTEND;TZID=America/New_York:20201016T160000
DTSTAMP:20260423T175442
CREATED:20201012T212426Z
LAST-MODIFIED:20201012T212426Z
UID:10554-1602860400-1602864000@ed.unc.edu
SUMMARY:Diversity\, Equity & Inclusion Listening Sessions
DESCRIPTION:The sessions are offered to allow community members to share concerns and input that will be used in forming a Diversity\, Equity\, and Inclusion plan for the School of Education. Watch for emailed Zoom invites.
URL:https://ed.unc.edu/event/diversity-equity-inclusion-listening-sessions/
LOCATION:Online
CATEGORIES:School Events
ORGANIZER;CN="Dana Griffin":MAILTO:dcgriffi@email.unc.edu
END:VEVENT
BEGIN:VEVENT
DTSTART;TZID=America/New_York:20201014T180000
DTEND;TZID=America/New_York:20201014T180000
DTSTAMP:20260423T175442
CREATED:20200803T193858Z
LAST-MODIFIED:20200901T135220Z
UID:10025-1602698400-1602698400@ed.unc.edu
SUMMARY:Master of Arts in Educational\, Innovation\, Technology\, and Entrepreneurship Info Session
DESCRIPTION:Take the first step towards earning a Master of Arts in Educational Innovation\, Technology\, and Entrepreneurship (MEITE) by attending an online information session hosted by UNC’s School of Education. During this web-based presentation\, School of Education faculty and recruitment staff will cover how the MEITE program can help you advance your career and achieve your goals by honing in on your creativity and acquiring the knowledge\, skills and dispositions necessary to become an effective leader in educational innovation. There will also be the chance to discuss the application and admissions process as well as ask any further questions that you may have. All you will need is a computer with internet access and a phone. \nRegister here.
URL:https://ed.unc.edu/event/meite-info-session-2/
LOCATION:Online
CATEGORIES:Information Sessions,Public,School Events
ORGANIZER;CN="Patricia &#8220%3BTrish&#8221%3B Harris":MAILTO:patricia.harris@unc.edu
END:VEVENT
BEGIN:VEVENT
DTSTART;TZID=America/New_York:20201001T180000
DTEND;TZID=America/New_York:20201001T190000
DTSTAMP:20260423T175442
CREATED:20200803T193858Z
LAST-MODIFIED:20200803T193858Z
UID:10024-1601575200-1601578800@ed.unc.edu
SUMMARY:School Counseling Info Session
DESCRIPTION:Take the first step towards earning a Master of Education in School Counseling by attending an online information session. During this web-based presentation\, School of Education faculty and recruitment staff will cover how the M.Ed in School Counseling can help you advance your career and achieve your goals by honing in on your leadership skills and acquiring the knowledge\, skills and dispositions necessary to become an effective school counselor. Participants will have the opportunity to discuss the application and admissions process as well as ask any further questions that you may have. All you will need is a computer with internet access and a phone. \nRegister here.
URL:https://ed.unc.edu/event/school-counseling-info-session/
LOCATION:Online
CATEGORIES:Information Sessions,Public,School Events
ORGANIZER;CN="Patricia &#8220%3BTrish&#8221%3B Harris":MAILTO:patricia.harris@unc.edu
END:VEVENT
BEGIN:VEVENT
DTSTART;TZID=America/New_York:20200928T160000
DTEND;TZID=America/New_York:20200928T170000
DTSTAMP:20260423T175442
CREATED:20200803T193855Z
LAST-MODIFIED:20200901T135117Z
UID:10014-1601308800-1601312400@ed.unc.edu
SUMMARY:Human Development and Family Studies Career Connections Series
DESCRIPTION:
URL:https://ed.unc.edu/event/hdfs-career-connections-series/
LOCATION:Facebook Live
CATEGORIES:Information Sessions,Public,School Events
ORGANIZER;CN="Patricia &#8220%3BTrish&#8221%3B Harris":MAILTO:patricia.harris@unc.edu
END:VEVENT
BEGIN:VEVENT
DTSTART;TZID=America/New_York:20200924T180000
DTEND;TZID=America/New_York:20200924T190000
DTSTAMP:20260423T175442
CREATED:20200803T193858Z
LAST-MODIFIED:20200901T135036Z
UID:10023-1600970400-1600974000@ed.unc.edu
SUMMARY:Master of Education for Experienced Teachers - Early Childhood and Family Support Info Session
DESCRIPTION:Take the first step towards earning a Master of Education for Experienced Teachers – Early Childhood Intervention & Family Support (ECIFS)\, by attending an online information session. During this web-based presentation\, School of Education faculty and recruitment staff will cover how the MEDX Program can help you advance your career and achieve your goals by honing in on your leadership skills and acquiring the knowledge\, skills and dispositions necessary to become an effective educator. Participants will have the opportunity to discuss the application and admissions process as well as ask any further questions that you may have. All you will need is a computer with internet access and a phone. \nRegister here.
URL:https://ed.unc.edu/event/medx-info-session-2/
LOCATION:Online
CATEGORIES:Information Sessions,Public,School Events
ORGANIZER;CN="Patricia &#8220%3BTrish&#8221%3B Harris":MAILTO:patricia.harris@unc.edu
END:VEVENT
BEGIN:VEVENT
DTSTART;TZID=America/New_York:20200923T180000
DTEND;TZID=America/New_York:20200923T180000
DTSTAMP:20260423T175442
CREATED:20200803T193857Z
LAST-MODIFIED:20200901T135230Z
UID:10022-1600884000-1600884000@ed.unc.edu
SUMMARY:Master of Arts in Educational\, Innovation\, Technology\, and Entrepreneurship Info Session
DESCRIPTION:Take the first step towards earning a Master of Arts in Educational Innovation\, Technology\, and Entrepreneurship (MEITE) by attending an online information session hosted by UNC’s School of Education. During this web-based presentation\, School of Education faculty and recruitment staff will cover how the MEITE program can help you advance your career and achieve your goals by honing in on your creativity and acquiring the knowledge\, skills and dispositions necessary to become an effective leader in educational innovation. There will also be the chance to discuss the application and admissions process as well as ask any further questions that you may have. All you will need is a computer with internet access and a phone. \nRegister here.
URL:https://ed.unc.edu/event/meite-info-session/
LOCATION:Online
CATEGORIES:Information Sessions,Public,School Events
ORGANIZER;CN="Patricia &#8220%3BTrish&#8221%3B Harris":MAILTO:patricia.harris@unc.edu
END:VEVENT
BEGIN:VEVENT
DTSTART;TZID=America/New_York:20200922T180000
DTEND;TZID=America/New_York:20200922T190000
DTSTAMP:20260423T175442
CREATED:20200803T193857Z
LAST-MODIFIED:20200901T135124Z
UID:10021-1600797600-1600801200@ed.unc.edu
SUMMARY:Human Development and Family Studies Info Session
DESCRIPTION:Participate in an online information session to learn more about our undergraduate program in Human Development and Family Services.  School of Education faculty and staff from the Office of Student Affairs will lead participants in an overview of the program\, requirements for admission\, application process\, and program structure and distinctiveness. Prospective students will have an opportunity to connect with faculty\, staff\, and current students and get their questions answered in an online setting. \nRegister here.
URL:https://ed.unc.edu/event/hdfs-info-session/
LOCATION:Online
CATEGORIES:Information Sessions,Public,School Events
ORGANIZER;CN="Patricia &#8220%3BTrish&#8221%3B Harris":MAILTO:patricia.harris@unc.edu
END:VEVENT
BEGIN:VEVENT
DTSTART;TZID=America/New_York:20200910T180000
DTEND;TZID=America/New_York:20200910T190000
DTSTAMP:20260423T175442
CREATED:20200803T193857Z
LAST-MODIFIED:20200803T193857Z
UID:10020-1599760800-1599764400@ed.unc.edu
SUMMARY:Master of School Administration Info Session
DESCRIPTION:Take the first step towards earning a Master’s in School Administration by attending an online information session. During these web-based presentations\, School of Education faculty and recruitment staff will cover how the MSA program can help you advance your career and achieve your goals by honing in on your leadership skills and acquiring the knowledge\, skills and dispositions necessary to become an effective school leader. There will also be an opportunity to discuss the application and admissions process as well as ask any further questions that you may have. All you will need is a computer with internet access and a phone. \nRegister here.
URL:https://ed.unc.edu/event/master-of-school-administration-info-session/
LOCATION:Online
CATEGORIES:Information Sessions,Public,School Events
ORGANIZER;CN="Patricia &#8220%3BTrish&#8221%3B Harris":MAILTO:patricia.harris@unc.edu
END:VEVENT
BEGIN:VEVENT
DTSTART;TZID=America/New_York:20200903T180000
DTEND;TZID=America/New_York:20200903T190000
DTSTAMP:20260423T175442
CREATED:20200803T193856Z
LAST-MODIFIED:20200901T135314Z
UID:10018-1599156000-1599159600@ed.unc.edu
SUMMARY:Master of Arts in Teaching Info Session
DESCRIPTION:Take the first step towards earning a Master’s of Arts in Teaching (MAT) by attending an online information session. During this web-based presentation\, School of Education faculty and recruitment staff will cover how the MAT program can help you advance your career and achieve your goals by honing in on your leadership skills and acquiring the knowledge\, skills and dispositions necessary to become an effective educator. Participants will have an opportunity to discuss the application and admissions process as well as ask any further questions that you may have. All you will need is a computer with internet access and a phone. \nRegister here.
URL:https://ed.unc.edu/event/mat-info-session/
LOCATION:Online
CATEGORIES:Information Sessions,Public,School Events
ORGANIZER;CN="Patricia &#8220%3BTrish&#8221%3B Harris":MAILTO:patricia.harris@unc.edu
END:VEVENT
BEGIN:VEVENT
DTSTART;TZID=America/New_York:20200902T180000
DTEND;TZID=America/New_York:20200902T190000
DTSTAMP:20260423T175442
CREATED:20200803T193856Z
LAST-MODIFIED:20200901T135025Z
UID:10017-1599069600-1599073200@ed.unc.edu
SUMMARY:Master of Education for Experienced Teachers - Early Childhood and Family Support Info Session
DESCRIPTION:Take the first step towards earning a Master of Education for Experienced Teachers – Early Childhood Intervention & Family Support (ECIFS)\, by attending an online information session. During this web-based presentation\, School of Education faculty and recruitment staff will cover how the MEDX Program can help you advance your career and achieve your goals by honing in on your leadership skills and acquiring the knowledge\, skills and dispositions necessary to become an effective educator. Participants will have the opportunity to discuss the application and admissions process as well as ask any further questions that you may have. All you will need is a computer with internet access and a phone. \nRegister here.
URL:https://ed.unc.edu/event/medx-info-session/
LOCATION:Online
CATEGORIES:Information Sessions,Public,School Events
ORGANIZER;CN="Patricia &#8220%3BTrish&#8221%3B Harris":MAILTO:patricia.harris@unc.edu
END:VEVENT
BEGIN:VEVENT
DTSTART;TZID=America/New_York:20200827T180000
DTEND;TZID=America/New_York:20200827T191500
DTSTAMP:20260423T175442
CREATED:20200803T193855Z
LAST-MODIFIED:20200803T193855Z
UID:10012-1598551200-1598555700@ed.unc.edu
SUMMARY:Undergraduate Programs Information Session
DESCRIPTION:Participate in an online information session to learn more about our undergraduate programs in: \n\nHuman Development and Family Services\,\nK-12 Music Education\,\nUNC-BEST\,\nMinor in Education\, and\nPre-MAT.\n\nSchool of Education faculty and staff from the Office of Student Affairs will lead participants in an overview of the program\, requirements for admission\, application process\, and program structure and distinctiveness. Prospective students will have an opportunity to connect with faculty\, staff\, and current students and get their questions answered in an online setting. \nRegister here.
URL:https://ed.unc.edu/event/undergraduate-programs-information-session/
LOCATION:Online
CATEGORIES:Information Sessions,Public,School Events
ORGANIZER;CN="Patricia &#8220%3BTrish&#8221%3B Harris":MAILTO:patricia.harris@unc.edu
END:VEVENT
BEGIN:VEVENT
DTSTART;TZID=America/New_York:20200824T160000
DTEND;TZID=America/New_York:20200824T170000
DTSTAMP:20260423T175442
CREATED:20200803T194335Z
LAST-MODIFIED:20201105T185402Z
UID:10048-1598284800-1598288400@ed.unc.edu
SUMMARY:Human Development and Family Studies Career Connections Series
DESCRIPTION:
URL:https://ed.unc.edu/event/hdfs-career-connections-series-3/
LOCATION:Facebook Live
CATEGORIES:Information Sessions,Public,School Events
ORGANIZER;CN="Patricia &#8220%3BTrish&#8221%3B Harris":MAILTO:patricia.harris@unc.edu
END:VEVENT
BEGIN:VEVENT
DTSTART;TZID=UTC:20200731T130000
DTEND;TZID=UTC:20200731T160000
DTSTAMP:20260423T175442
CREATED:20200622T155756Z
LAST-MODIFIED:20200708T190214Z
UID:9809-1596200400-1596211200@ed.unc.edu
SUMMARY:MEITE Pitch Day
DESCRIPTION:Please join us for The Master of Arts in Educational Innovation\, Technology\, and Entrepreneurship program’s annual Pitch Day. \nPitch Day will feature our graduating students pitching the products\, services\, and courses they have developed while in the program. \nDue to the health climate\, this year’s Pitch Day will be a virtual event\, and attendees will have the opportunity to view the pitches\, interact with our graduating students\, and learn more about the MEITE program.
URL:https://ed.unc.edu/event/meite-pitch-day/
LOCATION:Online
CATEGORIES:Public,School Events
END:VEVENT
END:VCALENDAR